BEGIN:VCALENDAR
VERSION:2.0
PRODID:-//Payne Theological Seminary - ECPv6.15.18//NONSGML v1.0//EN
CALSCALE:GREGORIAN
METHOD:PUBLISH
X-WR-CALNAME:Payne Theological Seminary
X-ORIGINAL-URL:https://payneseminary.edu
X-WR-CALDESC:Events for Payne Theological Seminary
REFRESH-INTERVAL;VALUE=DURATION:PT1H
X-Robots-Tag:noindex
X-PUBLISHED-TTL:PT1H
BEGIN:VTIMEZONE
TZID:America/Detroit
BEGIN:DAYLIGHT
TZOFFSETFROM:-0500
TZOFFSETTO:-0400
TZNAME:EDT
DTSTART:20210314T070000
END:DAYLIGHT
BEGIN:STANDARD
TZOFFSETFROM:-0400
TZOFFSETTO:-0500
TZNAME:EST
DTSTART:20211107T060000
END:STANDARD
BEGIN:DAYLIGHT
TZOFFSETFROM:-0500
TZOFFSETTO:-0400
TZNAME:EDT
DTSTART:20220313T070000
END:DAYLIGHT
BEGIN:STANDARD
TZOFFSETFROM:-0400
TZOFFSETTO:-0500
TZNAME:EST
DTSTART:20221106T060000
END:STANDARD
BEGIN:DAYLIGHT
TZOFFSETFROM:-0500
TZOFFSETTO:-0400
TZNAME:EDT
DTSTART:20230312T070000
END:DAYLIGHT
BEGIN:STANDARD
TZOFFSETFROM:-0400
TZOFFSETTO:-0500
TZNAME:EST
DTSTART:20231105T060000
END:STANDARD
END:VTIMEZONE
BEGIN:VEVENT
DTSTART;TZID=America/Detroit:20220126T100000
DTEND;TZID=America/Detroit:20220126T121500
DTSTAMP:20260424T043709
CREATED:20220121T193020Z
LAST-MODIFIED:20220121T193223Z
UID:171988-1643191200-1643199300@payneseminary.edu
SUMMARY:Doctor of Ministry Spring Plenary Session II with Dr. Glenn Dames 
DESCRIPTION:The week-long intensive plenary sessions will focus on Black Church Activism. The second session will delve into Activism for the Homeless and is presented by Dr. Glenn Dames. \nRegister for the Doctor of Ministry Spring Plenary Session II with Dr. Glenn Dames here. \nPastor Glenn B. Dames\, Jr. has worked diligently as a humble servant\, preaching the Gospel and leading God’s people for over 25 years. \nCoupled with the support of his wife\, Jennifer\, Pastor Dames began his spiritual journey as a young boy and has since presided over a number of prestigious congregations. At the early age of 12\, he accepted Jesus Christ as his personal Savior\, and at 15 he responded to his calling to preach the Gospel. Since then\, Pastor Dames has served the church as Youth Pastor of the Historic St. James A.M.E. Church in Orange Park\, Florida\, Third Street Bethel A.M.E. Church in Richmond\, Virginia\, Brown Memorial A.M.E. Church in Washington\, D.C.\, and in his first full-time charge\, he served as Senior Pastor of the Mt. Pisgah A.M.E. Church in Starke\, FL for over five years. Following his service at Mt. Pisgah\, Pastor Dames led the people of St. James AME Church\, Titusville\, FL for 10 years. In November of 2016\, Bishop Adam J. Richardson appointed Rev. Dames to serve as the senior pastor of Allen Temple AME Church in Tampa Bay\, the flagship church of the West Coast Conference. \nA native of Jacksonville\, Florida\, Rev. Dames is a graduate of Edward Waters College in Jacksonville and The Turner Theological Seminary at the Interdenominational Theological Center (ITC) in Atlanta\, Georgia where he earned the Master of Divinity. Rev. Dames also has earned the Doctorate of Ministry at the United Theological Seminary in Dayton\, Ohio.\nHumility\, compassion\, and integrity best describe the ministry of Pastor Dames. Experiencing tremendous growth throughout his career\, Pastor Dames has been responsible for initiating after-school tutorial programs\, remodeling and redesigning the church buildings and expanding the church’s witness through web technology\, billboards and other media. \nPastor Dames’ ministry extends beyond the four walls of the church and into the community. Known affectionately as the Community’s Pastor\, Pastor Dames is active and visible in our schools\, hospitals\, jails\, homes\, and all facets of city and county government. He is a proud member of Alpha Phi Alpha Fraternity\, Incorporated\, a participant of Save African American Boys\, a member of the Sons of Allen of the African Methodist Episcopal Church\, and the former North Brevard Branch NAACP President. Highlighting his commitment to social advocacy\, his fight against injustice and love for education\, he has been featured in USA Today\, Florida Today\, Democracy Now\, Space Coast Living Magazine\, and many other publications. Pastor Dames was also one of the recipients of the 2015 LEAD Brevard’s “4 under 40” awards\, the Florida Institute of Technology (F.I.T.) Rev. Harvey L. Riley\, Bridge Builders award\, and the Florida Education Association (FEA) Martin Luther King\, Jr. award for Civil Rights. \nAlthough Reverend Dames is very proud of all his achievements and involvements\, he is mostly proud to be a loving husband to Dr. Jennifer Dames and father to two beautiful girls\, Detra and Jailynn Dames\, and son\, Glenn B. Dames\, III (Trey).
URL:https://payneseminary.edu/event/doctor-of-ministry-spring-plenary-session-ii-with-dr-glenn-dames/
END:VEVENT
BEGIN:VEVENT
DTSTART;TZID=America/Detroit:20220127T100000
DTEND;TZID=America/Detroit:20220127T121500
DTSTAMP:20260424T043709
CREATED:20220121T190319Z
LAST-MODIFIED:20220121T190319Z
UID:171986-1643277600-1643285700@payneseminary.edu
SUMMARY:Doctor of Ministry Spring Plenary Session III with Ms. Tequila Johnson
DESCRIPTION:The week-long intensive plenary sessions will focus on Black Church Activism. The third session will delve into Activism for Socioeconomic and Educational Inequity and is presented by Ms. Tequila Johnson. \nRegister for the Doctor of Ministry Spring Plenary Session III with Ms. Tequila Johnson here. \n“Tequila Johnson is an award-winning cause-driven community organizer and strategist whose work focuses on creating equity and increasing civic engagement among Black Americans and other communities of color. She has been recognized for educating communities of color about the political process\, relevant economic\, social\, and political issues\, the impacts of impending legislation\, and providing people with the tools to exercise self-agency. She has been featured in The New York Times\, The Washington Post\, on CNN\, MSNBC\, and around the country. Johnson is the co-founder and co-executive director of The Equity Alliance\, a Tennessee-based nonprofit that equips Black and brown citizens with tools and strategies to strengthen their communities and make government work better. In 2018\, Johnson served as the statewide manager for the Tennessee Black Voter Project\, a statewide coalition of nearly two dozen local nonprofits working together toward the goal of registering 50\,000 Black Tennesseans to vote. The group\, under Johnson’s leadership\, submitted 91\,000 voter registration forms. In addition to her involvement in local politics and community organizing\, Johnson is also the founder and CEO of The Equity Consulting Group\, LLC\, a firm specializing in issue advocacy\, government relations\, community relations\, and media strategy. \nShe served as campaign manager and lead strategist for newcomer Christiane Buggs’s successful Metro Nashville School Board election and has provided strategic oversight\, analysis\, and field operations for a variety of political organizations. Her Work in and for the community has earned widespread praise and recognition. Her awards include: 2020 Roddenberry Civil Rights Fellow\, 2019 Human Rights Coalition Rising Advocate Award\, The Nashville Business Journal’s Women of Influence Award 2019; Nashville Chamber of Commerce’s Small Business Superstar 2019; the NAACP Ella Baker Power Award 2019; the Women’s Political Collaborative of Tennessee’s Movers and Shakers Award 2018; Nashville Business’ 100 Leading African Americans 2018; Nashville Black 40 Under 40 2018; and Nashville Voice’s 2018 Nashvillian of the Year. Johnson was a featured presenter at the 2018 Healthy and Free Tennessee Reproductive Rights Summit\, in 2019 at the national Unrig Summit\, and in 2019 at the Muslim Women’s Conference in Abu Dhabi\, UAE. \nJohnson is a graduate of Tennessee State University\, where she received her master’s degree in counseling psychology and is currently pursuing a Ph.D. in industrial and organizational psychology. Additionally\, she is a certified project manager and holds a graduate certificate in grant writing and nonprofit\, public\, and organizational management. She currently serves on the Metro Nashville Industrial Development Board (2020)\, the sustainable business coalition\, and is a Board Member for Creative Girls Rock. When she’s not working\, she enjoys singing in her church choir\, doing CrossFit\, and spending time with her daughter.” \n 
URL:https://payneseminary.edu/event/doctor-of-ministry-spring-plenary-session-iii-with-ms-tequila-johnson/
LOCATION:Virtual
END:VEVENT
BEGIN:VEVENT
DTSTART;TZID=America/Detroit:20220128T100000
DTEND;TZID=America/Detroit:20220128T121500
DTSTAMP:20260424T043709
CREATED:20220121T201440Z
LAST-MODIFIED:20220121T202823Z
UID:172068-1643364000-1643372100@payneseminary.edu
SUMMARY:Doctor of Ministry Spring Intensive Panel Discussion
DESCRIPTION:The Doctor of Ministry Program will wrap up its week-long intensive with a panel discussion with the week’s guest speakers.  Click here to register for the Panel Discussion.
URL:https://payneseminary.edu/event/doctor-of-ministry-spring-intensive-panel-discussion/
END:VEVENT
END:VCALENDAR